BEGIN:VCALENDAR
VERSION:2.0
PRODID:-//wp-events-plugin.com//7.2.3.1//EN
TZID:Europe/Paris
X-WR-TIMEZONE:Europe/Paris
BEGIN:VEVENT
UID:23@coda-asso.fr
DTSTART;TZID=Europe/Paris:20240408T203000
DTEND;TZID=Europe/Paris:20240408T223000
DTSTAMP:20240326T175951Z
URL:https://www.coda-asso.fr/rendez-vous/reunion-mensuelle-2024-04-01/
SUMMARY:Réunion Mensuelle
DESCRIPTION:Nous nous réunissons tous les premiers lundis du mois (en prin
 cipe) à 20h30 à la Maison des Associations de Portes-Les-Valence pour di
 scuter de l'actualité ornithologique\, faire le point sur les travaux en 
 cours\, préparer les prochains événements.\nA l'issue une discussion en
 tre amis s'organise autour d'un verre et de quelques petites choses à pic
 orer.\nVous n'êtes pas membre du C.O.D-A. vous pouvez exceptionnellement 
 nous rejoindre en tant qu'observateur et peut-être vous laisser séduire 
 par la passion.
ATTACH;FMTTYPE=image/jpeg:https://www.coda-asso.fr/wp-content/uploads/Ara-
 ararauna.jpg
CATEGORIES:Réunion
LOCATION:Maison des Associations\, 24 rue Jean-Jaurès\, Portes-Lès-Valenc
 e\, 26800\, France
GEO:44.8774235;4.877301799999941
X-APPLE-STRUCTURED-LOCATION;VALUE=URI;X-ADDRESS=24 rue Jean-Jaurès\, Porte
 s-Lès-Valence\, 26800\, France;X-APPLE-RADIUS=100;X-TITLE=Maison des Asso
 ciations:geo:44.8774235,4.877301799999941
END:VEVENT
BEGIN:VTIMEZONE
TZID:Europe/Paris
X-LIC-LOCATION:Europe/Paris
BEGIN:DAYLIGHT
DTSTART:20240331T030000
TZOFFSETFROM:+0100
TZOFFSETTO:+0200
TZNAME:CEST
END:DAYLIGHT
END:VTIMEZONE
END:VCALENDAR