BEGIN:VCALENDAR
VERSION:2.0
PRODID:-//wp-events-plugin.com//7.2.3.1//EN
TZID:Europe/Paris
X-WR-TIMEZONE:Europe/Paris
BEGIN:VEVENT
UID:24@coda-asso.fr
DTSTART;TZID=Europe/Paris:20240506T203000
DTEND;TZID=Europe/Paris:20240506T223000
DTSTAMP:20240411T165638Z
URL:https://www.coda-asso.fr/rendez-vous/reunion-du-6-mai-2024/
SUMMARY:réunion du 6 mai 2024
DESCRIPTION:La réunion mensuelle aura lieu le lundi 6 mai 2024 à Portes l
 es Valence salle des associations 
CATEGORIES:Réunion
END:VEVENT
BEGIN:VTIMEZONE
TZID:Europe/Paris
X-LIC-LOCATION:Europe/Paris
BEGIN:DAYLIGHT
DTSTART:20240331T030000
TZOFFSETFROM:+0100
TZOFFSETTO:+0200
TZNAME:CEST
END:DAYLIGHT
END:VTIMEZONE
END:VCALENDAR