BEGIN:VCALENDAR
VERSION:2.0
PRODID:-//wp-events-plugin.com//7.2.3.1//EN
TZID:Europe/Paris
X-WR-TIMEZONE:Europe/Paris
BEGIN:VEVENT
UID:1@coda-asso.fr
DTSTART;TZID=Europe/Paris;VALUE=DATE:20190928
DTEND;TZID=Europe/Paris;VALUE=DATE:20190930
DTSTAMP:20190308T110131Z
URL:https://www.coda-asso.fr/rendez-vous/exposition-bourse-aux-oiseaux/
SUMMARY:Exposition / Bourse aux Oiseaux
DESCRIPTION:Exposition-Bourse 2019\nLe C.O.D-A. vous invite à « prendre u
 n bain » de chants et de couleurs à l’Espace Cristal samedi (9h-18h) e
 t dimanche (10h-18h).
ATTACH;FMTTYPE=image/jpeg:https://www.coda-asso.fr/wp-content/uploads/Bour
 se-Portes-2019-web.jpg
CATEGORIES:Bourse,Exposition
LOCATION:Espace Cristal\, 123 rue Descartes\, Portes-Lès-Valence\, 26800\,
  France
GEO:44.8599402;4.871502400000054
X-APPLE-STRUCTURED-LOCATION;VALUE=URI;X-ADDRESS=123 rue Descartes\, Portes-
 Lès-Valence\, 26800\, France;X-APPLE-RADIUS=100;X-TITLE=Espace Cristal:ge
 o:44.8599402,4.871502400000054
END:VEVENT
BEGIN:VTIMEZONE
TZID:Europe/Paris
X-LIC-LOCATION:Europe/Paris
BEGIN:DAYLIGHT
DTSTART:20190331T030000
TZOFFSETFROM:+0100
TZOFFSETTO:+0200
TZNAME:CEST
END:DAYLIGHT
END:VTIMEZONE
END:VCALENDAR